BEGIN:VCALENDAR
VERSION:2.0
PRODID:-//2026 GRCA National - ECPv6.15.17.1//NONSGML v1.0//EN
CALSCALE:GREGORIAN
METHOD:PUBLISH
X-ORIGINAL-URL:https://2026.grcanational.com
X-WR-CALDESC:Events for 2026 GRCA National
REFRESH-INTERVAL;VALUE=DURATION:PT1H
X-Robots-Tag:noindex
X-PUBLISHED-TTL:PT1H
BEGIN:VTIMEZONE
TZID:America/Chicago
BEGIN:DAYLIGHT
TZOFFSETFROM:-0600
TZOFFSETTO:-0500
TZNAME:CDT
DTSTART:20240310T080000
END:DAYLIGHT
BEGIN:STANDARD
TZOFFSETFROM:-0500
TZOFFSETTO:-0600
TZNAME:CST
DTSTART:20241103T070000
END:STANDARD
BEGIN:DAYLIGHT
TZOFFSETFROM:-0600
TZOFFSETTO:-0500
TZNAME:CDT
DTSTART:20250309T080000
END:DAYLIGHT
BEGIN:STANDARD
TZOFFSETFROM:-0500
TZOFFSETTO:-0600
TZNAME:CST
DTSTART:20251102T070000
END:STANDARD
BEGIN:DAYLIGHT
TZOFFSETFROM:-0600
TZOFFSETTO:-0500
TZNAME:CDT
DTSTART:20260308T080000
END:DAYLIGHT
BEGIN:STANDARD
TZOFFSETFROM:-0500
TZOFFSETTO:-0600
TZNAME:CST
DTSTART:20261101T070000
END:STANDARD
END:VTIMEZONE
BEGIN:VEVENT
DTSTART;TZID=America/Chicago:20250917T070000
DTEND;TZID=America/Chicago:20250917T160000
DTSTAMP:20260419T140639
CREATED:20250119T183501Z
LAST-MODIFIED:20250920T132611Z
UID:10000113-1758092400-1758124800@2026.grcanational.com
SUMMARY:Field Trial
DESCRIPTION:time is approximate \n\n\n\nThis will be the 85th GRCA National Specialty Field Trial – one of the two oldest GRCA National Specialty events! Note that Puppy Stake will be held on Thursday\, 18 Sept.  This non-regular stake is for puppies 6 to 12 months of age on the day of the trial.  Bumpers will be used in lieu of birds.  Entry fee for Puppy Stake will be $30.00. \n\n\n\n\n\n\n\n\nResults\n\n\n\n\nEntries\n\n\n\n\nOpen: 7/22/2026\n\n\n\nClose: 8/26/2026\n\n\n\n\nField Trial Judges\n\n\n\n\nCorrie Elmes & Edward Neilson (Amateur)\n\n\n\nJoey Smith & Don Fregelette (Derby)\n\n\n\nKathleen Fregelette & Derek Smith (Open)\n\n\n\nSuzan Caire & Paula Elmes (Qualifying)
URL:https://2026.grcanational.com/event/field-trial/2025-09-17/
LOCATION:August A. Busch Memorial Conservation Area\, 2360 Hwy D\, St Charles\, MO\, 63304\, United States
CATEGORIES:Competition,Field
ATTACH;FMTTYPE=image/png:https://2026.grcanational.com/wp-content/uploads/2022/10/fieldtrial_slider_nologo.png
ORGANIZER;CN="Jeanie Greenlee":MAILTO:jeanniegreenlee@gmail.com
GEO:38.7051108;-90.7399913
X-APPLE-STRUCTURED-LOCATION;VALUE=URI;X-ADDRESS=August A. Busch Memorial Conservation Area 2360 Hwy D St Charles MO 63304 United States;X-APPLE-RADIUS=500;X-TITLE=2360 Hwy D:geo:-90.7399913,38.7051108
END:VEVENT
END:VCALENDAR