BEGIN:VCALENDAR
VERSION:2.0
PRODID:-//2026 GRCA National - ECPv6.15.17.1//NONSGML v1.0//EN
CALSCALE:GREGORIAN
METHOD:PUBLISH
X-ORIGINAL-URL:https://2026.grcanational.com
X-WR-CALDESC:Events for 2026 GRCA National
REFRESH-INTERVAL;VALUE=DURATION:PT1H
X-Robots-Tag:noindex
X-PUBLISHED-TTL:PT1H
BEGIN:VTIMEZONE
TZID:America/Chicago
BEGIN:DAYLIGHT
TZOFFSETFROM:-0600
TZOFFSETTO:-0500
TZNAME:CDT
DTSTART:20240310T080000
END:DAYLIGHT
BEGIN:STANDARD
TZOFFSETFROM:-0500
TZOFFSETTO:-0600
TZNAME:CST
DTSTART:20241103T070000
END:STANDARD
BEGIN:DAYLIGHT
TZOFFSETFROM:-0600
TZOFFSETTO:-0500
TZNAME:CDT
DTSTART:20250309T080000
END:DAYLIGHT
BEGIN:STANDARD
TZOFFSETFROM:-0500
TZOFFSETTO:-0600
TZNAME:CST
DTSTART:20251102T070000
END:STANDARD
BEGIN:DAYLIGHT
TZOFFSETFROM:-0600
TZOFFSETTO:-0500
TZNAME:CDT
DTSTART:20260308T080000
END:DAYLIGHT
BEGIN:STANDARD
TZOFFSETFROM:-0500
TZOFFSETTO:-0600
TZNAME:CST
DTSTART:20261101T070000
END:STANDARD
END:VTIMEZONE
BEGIN:VEVENT
DTSTART;TZID=America/Chicago:20250918T080000
DTEND;TZID=America/Chicago:20250921T170000
DTSTAMP:20260425T110111
CREATED:20250206T010714Z
LAST-MODIFIED:20250608T203938Z
UID:10000136-1758182400-1758474000@2026.grcanational.com
SUMMARY:Gateway Cluster All-breed Dog Shows
DESCRIPTION:Thurs-Sun\, 18-21 Sept\, Gateway Cluster\, Purina Event Center\, Gray Summit\, MO  (Show Supt:  Onofrio)\n\n\n\nThurs\, 18 Sept:  Gateway Toy Dog Fanciers\, Gateway Non-Sporting Dog Club         \n\n\n\nFriday\, 19 Sept: Rolla Missouri KC\n\n\n\nSaturday\, 20 Sept:  Spirit of the Heartland KC\n\n\n\nSunday\, 21 Sept:  Jefferson County KC of Missouri\n\n\n\n\nSuperintendent: Onofrio
URL:https://2026.grcanational.com/event/gateway-cluster-all-breed-dog-shows/
LOCATION:Purina Farms\, 500 William Danforth Way\, Gray Summit\, Missouri\, 63039\, United States
CATEGORIES:Nearby Events
GEO:38.4912237;-90.8353531
X-APPLE-STRUCTURED-LOCATION;VALUE=URI;X-ADDRESS=Purina Farms 500 William Danforth Way Gray Summit Missouri 63039 United States;X-APPLE-RADIUS=500;X-TITLE=500 William Danforth Way:geo:-90.8353531,38.4912237
END:VEVENT
BEGIN:VEVENT
DTSTART;TZID=America/Chicago:20250918T080000
DTEND;TZID=America/Chicago:20250921T170000
DTSTAMP:20260425T110111
CREATED:20250608T213329Z
LAST-MODIFIED:20250608T213332Z
UID:10000149-1758182400-1758474000@2026.grcanational.com
SUMMARY:Aggie Retriever Club Field Trial
DESCRIPTION:For additional information contact:William Leitner\, Event SecretaryPO BOX 335SAINT DAVID\, IL 61563-0335(309) 989-2223   
URL:https://2026.grcanational.com/event/aggie-retriever-club-field-trial/
LOCATION:Brotherhood Farms\, N Wild Wind Rd\, Canton\, Illinois\, 61520\, United States
CATEGORIES:Nearby Events
GEO:40.5986008;-90.0470407
X-APPLE-STRUCTURED-LOCATION;VALUE=URI;X-ADDRESS=Brotherhood Farms N Wild Wind Rd Canton Illinois 61520 United States;X-APPLE-RADIUS=500;X-TITLE=N Wild Wind Rd:geo:-90.0470407,40.5986008
END:VEVENT
BEGIN:VEVENT
DTSTART;TZID=America/Chicago:20250919T070000
DTEND;TZID=America/Chicago:20250919T160000
DTSTAMP:20260425T110111
CREATED:20250124T114936Z
LAST-MODIFIED:20250920T132505Z
UID:10000116-1758265200-1758297600@2026.grcanational.com
SUMMARY:Hunt Test
DESCRIPTION:time is approximate \n\n\n\n\n\n\n\n\nCatalog\n\n\n\n\n \n\n\n\nEntries\n\n\n\n\nOpen: 7/22/2026\n\n\n\nClose: 8/26/2026\n\n\n\n\nHunt Test Judges\n\n\n\n\nDiana Martin-Gruenler and  Linda Alexander (Junior A)\n\n\n\nJoe Smithberger & Janice Masica (Junior B)\n\n\n\nDon Freeman & Diana Martin-Gruenler (Senior)\n\n\n\nDoug McGuire & Lee Whittaker (Master)
URL:https://2026.grcanational.com/event/hunt-test/2025-09-19/
LOCATION:August A. Busch Memorial Conservation Area\, 2360 Hwy D\, St Charles\, MO\, 63304\, United States
CATEGORIES:Competition,Field
ORGANIZER;CN="Beth Gerdes":MAILTO:gerdes2@maxwire.net
GEO:38.7051108;-90.7399913
X-APPLE-STRUCTURED-LOCATION;VALUE=URI;X-ADDRESS=August A. Busch Memorial Conservation Area 2360 Hwy D St Charles MO 63304 United States;X-APPLE-RADIUS=500;X-TITLE=2360 Hwy D:geo:-90.7399913,38.7051108
END:VEVENT
BEGIN:VEVENT
DTSTART;TZID=America/Chicago:20250919T080000
DTEND;TZID=America/Chicago:20250921T170000
DTSTAMP:20260425T110111
CREATED:20250608T210846Z
LAST-MODIFIED:20250608T210850Z
UID:10000143-1758268800-1758474000@2026.grcanational.com
SUMMARY:Show Me Agility Club of Central Missouri Agility Trial
DESCRIPTION:Entries Open: Monday\, July 21\, 2025 8:00 a.m.Entries Close: Friday\, September 5\, 2025 6:00 p.m.Entries for this event are limited to: 300
URL:https://2026.grcanational.com/event/show-me-agility-club-of-central-missouri-agility-trial/
LOCATION:Untitled\, CO\, United States
CATEGORIES:Nearby Events
END:VEVENT
BEGIN:VEVENT
DTSTART;TZID=America/Chicago:20250919T080000
DTEND;TZID=America/Chicago:20250921T170000
DTSTAMP:20260425T110111
CREATED:20250608T211903Z
LAST-MODIFIED:20250608T213537Z
UID:10000145-1758268800-1758474000@2026.grcanational.com
SUMMARY:Missouri Rhineland Kennel Club Fast CAT
DESCRIPTION:Jenessa Janssen\, Event SecretaryPO BOX 316ROSCOE\, IL 61073-0316(815) 980-5961   se*******@***********ts.com
URL:https://2026.grcanational.com/event/missouri-rhineland-kennel-club-fast-cat/
LOCATION:Purina Farms\, 500 William Danforth Way\, Gray Summit\, Missouri\, 63039\, United States
CATEGORIES:Nearby Events
GEO:38.4912237;-90.8353531
X-APPLE-STRUCTURED-LOCATION;VALUE=URI;X-ADDRESS=Purina Farms 500 William Danforth Way Gray Summit Missouri 63039 United States;X-APPLE-RADIUS=500;X-TITLE=500 William Danforth Way:geo:-90.8353531,38.4912237
END:VEVENT
BEGIN:VEVENT
DTSTART;TZID=America/Chicago:20250919T170000
DTEND;TZID=America/Chicago:20250919T190000
DTSTAMP:20260425T110111
CREATED:20250413T203132Z
LAST-MODIFIED:20250630T233513Z
UID:10000139-1758301200-1758308400@2026.grcanational.com
SUMMARY:Hunt Tailgate
DESCRIPTION:time is approximate\, will be held under and around the pavilion. \n\n\n\nJoin your hunt test participants at the pavilion for some good food and friendship. There are picnic tables under the pavilion\, but you may want to bring a chair. A commemorative glass is included in the cost of a ticket. \n\n\n\nNo refunds or cancellations after August 22\, 2025. \n\n\n\n\n\n\n\n\nBuy Tickets\n\n\n\n\nMenu\n\n\n\nCatering from Heavy Smoke: Pulled Pork\, Pulled Chicken\, Pineapple Cole Slaw\, Green Beans\, Mac and Cheese\, Sweet BBQ Sauce\, Buns and selection of soft drinks and water. \n\n\n\nIf anyone has a food allergy\, please e-mail Je************@***il.com.
URL:https://2026.grcanational.com/event/hunt-tailgate/
LOCATION:August A. Busch Memorial Conservation Area\, 2360 Hwy D\, St Charles\, MO\, 63304\, United States
CATEGORIES:Social
ORGANIZER;CN="Jenny Ford":MAILTO:Jenny.Ford2488@gmail.com
GEO:38.7051108;-90.7399913
X-APPLE-STRUCTURED-LOCATION;VALUE=URI;X-ADDRESS=August A. Busch Memorial Conservation Area 2360 Hwy D St Charles MO 63304 United States;X-APPLE-RADIUS=500;X-TITLE=2360 Hwy D:geo:-90.7399913,38.7051108
END:VEVENT
END:VCALENDAR