BEGIN:VCALENDAR
VERSION:2.0
PRODID:-//2026 GRCA National - ECPv6.15.17.1//NONSGML v1.0//EN
CALSCALE:GREGORIAN
METHOD:PUBLISH
X-WR-CALNAME:2026 GRCA National
X-ORIGINAL-URL:https://2026.grcanational.com
X-WR-CALDESC:Events for 2026 GRCA National
REFRESH-INTERVAL;VALUE=DURATION:PT1H
X-Robots-Tag:noindex
X-PUBLISHED-TTL:PT1H
BEGIN:VTIMEZONE
TZID:America/Chicago
BEGIN:DAYLIGHT
TZOFFSETFROM:-0600
TZOFFSETTO:-0500
TZNAME:CDT
DTSTART:20240310T080000
END:DAYLIGHT
BEGIN:STANDARD
TZOFFSETFROM:-0500
TZOFFSETTO:-0600
TZNAME:CST
DTSTART:20241103T070000
END:STANDARD
BEGIN:DAYLIGHT
TZOFFSETFROM:-0600
TZOFFSETTO:-0500
TZNAME:CDT
DTSTART:20250309T080000
END:DAYLIGHT
BEGIN:STANDARD
TZOFFSETFROM:-0500
TZOFFSETTO:-0600
TZNAME:CST
DTSTART:20251102T070000
END:STANDARD
BEGIN:DAYLIGHT
TZOFFSETFROM:-0600
TZOFFSETTO:-0500
TZNAME:CDT
DTSTART:20260308T080000
END:DAYLIGHT
BEGIN:STANDARD
TZOFFSETFROM:-0500
TZOFFSETTO:-0600
TZNAME:CST
DTSTART:20261101T070000
END:STANDARD
END:VTIMEZONE
BEGIN:VEVENT
DTSTART;TZID=America/Chicago:20250921T070000
DTEND;TZID=America/Chicago:20250921T160000
DTSTAMP:20260423T073820
CREATED:20250124T115200Z
LAST-MODIFIED:20250630T225859Z
UID:10000119-1758438000-1758470400@2026.grcanational.com
SUMMARY:CCA #1
DESCRIPTION:time is approximate. WiIl be located under covered pavilion \n\n\n\n\n\n\n\n\nPremium Lists\n\n\n\n\nEntries\n\n\n\n\nOpen: 7/22/2026\n\n\n\nClose: 8/26/2026\n\n\n\n\nCCA (1) Evaluators
URL:https://2026.grcanational.com/event/cca-1/
LOCATION:August A. Busch Memorial Conservation Area\, 2360 Hwy D\, St Charles\, MO\, 63304\, United States
CATEGORIES:Competition,Conformation
ORGANIZER;CN="Ellen Hardin":MAILTO:ariellgoldens@gmail.com
GEO:38.7051108;-90.7399913
X-APPLE-STRUCTURED-LOCATION;VALUE=URI;X-ADDRESS=August A. Busch Memorial Conservation Area 2360 Hwy D St Charles MO 63304 United States;X-APPLE-RADIUS=500;X-TITLE=2360 Hwy D:geo:-90.7399913,38.7051108
END:VEVENT
END:VCALENDAR