BEGIN:VCALENDAR
VERSION:2.0
PRODID:-//2026 GRCA National - ECPv6.15.17.1//NONSGML v1.0//EN
CALSCALE:GREGORIAN
METHOD:PUBLISH
X-ORIGINAL-URL:https://2026.grcanational.com
X-WR-CALDESC:Events for 2026 GRCA National
REFRESH-INTERVAL;VALUE=DURATION:PT1H
X-Robots-Tag:noindex
X-PUBLISHED-TTL:PT1H
BEGIN:VTIMEZONE
TZID:America/Chicago
BEGIN:DAYLIGHT
TZOFFSETFROM:-0600
TZOFFSETTO:-0500
TZNAME:CDT
DTSTART:20240310T080000
END:DAYLIGHT
BEGIN:STANDARD
TZOFFSETFROM:-0500
TZOFFSETTO:-0600
TZNAME:CST
DTSTART:20241103T070000
END:STANDARD
BEGIN:DAYLIGHT
TZOFFSETFROM:-0600
TZOFFSETTO:-0500
TZNAME:CDT
DTSTART:20250309T080000
END:DAYLIGHT
BEGIN:STANDARD
TZOFFSETFROM:-0500
TZOFFSETTO:-0600
TZNAME:CST
DTSTART:20251102T070000
END:STANDARD
BEGIN:DAYLIGHT
TZOFFSETFROM:-0600
TZOFFSETTO:-0500
TZNAME:CDT
DTSTART:20260308T080000
END:DAYLIGHT
BEGIN:STANDARD
TZOFFSETFROM:-0500
TZOFFSETTO:-0600
TZNAME:CST
DTSTART:20261101T070000
END:STANDARD
END:VTIMEZONE
BEGIN:VEVENT
DTSTART;TZID=America/Chicago:20250928T080000
DTEND;TZID=America/Chicago:20250928T170000
DTSTAMP:20260420T162955
CREATED:20250206T003634Z
LAST-MODIFIED:20250924T144758Z
UID:10000124-1759046400-1759078800@2026.grcanational.com
SUMMARY: 🎥 Regular/Non-regular Conformation
DESCRIPTION:time is approximate \n\n\n\n\n\n\n\n\nJudging Program\n\n\n\nCatalog\n\n\n\n\nAre you interested in watching conformation online? Check out Show Dog Video Pro! \n\n\n\n\nWatch Live Online!\n\n\n\n\nEntries\n\n\n\n\nOpen: 7/22/2026\n\n\n\nClose: 8/26/2026\n\n\n\n\nConformation Judges\n\n\n\n\nDonna Ernst (intersex)\n\n\n\nCollette Jaynes (dogs)\n\n\n\nNancy Talbott (bitches)\n\n\n\nJennifer Harper (junior showmanship)\n\n\n\n\nGrooming\n\n\n\nMove-in is scheduled to be available September 24. All grooming will be indoors with electricity (paid grooming). More information can be found on the grooming page.
URL:https://2026.grcanational.com/event/regular-non-regular-conformation/2025-09-28/
LOCATION:Purina Farms\, 500 William Danforth Way\, Gray Summit\, Missouri\, 63039\, United States
CATEGORIES:Competition,Conformation
GEO:38.4912237;-90.8353531
X-APPLE-STRUCTURED-LOCATION;VALUE=URI;X-ADDRESS=Purina Farms 500 William Danforth Way Gray Summit Missouri 63039 United States;X-APPLE-RADIUS=500;X-TITLE=500 William Danforth Way:geo:-90.8353531,38.4912237
END:VEVENT
END:VCALENDAR